BEGIN:VCALENDAR
VERSION:2.0
PRODID:-//ChamberMaster//Event Calendar 2.0//EN
METHOD:PUBLISH
X-PUBLISHED-TTL:P3D
REFRESH-INTERVAL:P3D
CALSCALE:GREGORIAN
BEGIN:VEVENT
DTSTART:20151127T170000Z
DTEND:20151129T010000Z
X-MICROSOFT-CDO-ALLDAYEVENT:FALSE
SUMMARY:Santa's Workshop
DESCRIPTION:Santa's Workshop\, a premier Christmas gift show\, is in their 31st year!
X-ALT-DESC;FMTTYPE=text/html:Santa&#39\;s Workshop\, a premier Christmas gift show\, is in their 31st&nbsp\;year!
LOCATION:Dixie Convention Center 1835 Convention Center Drive St. George\, UT
UID:e.1117.7113
SEQUENCE:3
DTSTAMP:20260420T050717Z
URL:https://business.stgeorgechamber.com/events/details/santa-s-workshop-11-27-2015-7113
END:VEVENT

END:VCALENDAR
