BEGIN:VCALENDAR
VERSION:2.0
PRODID:-//ChamberMaster//Event Calendar 2.0//EN
METHOD:PUBLISH
X-PUBLISHED-TTL:P3D
REFRESH-INTERVAL:P3D
CALSCALE:GREGORIAN
BEGIN:VEVENT
DTSTART:20151107T170000Z
DTEND:20151107T210000Z
X-MICROSOFT-CDO-ALLDAYEVENT:FALSE
SUMMARY:Salute to Veterans
DESCRIPTION:Join Richens Eye Center and Nilsson Hearing Center in their special event\, "Salute to Veterans."  \n\n\n\nEnter to win drawing (hearing aids\, training program\, iPad\, and many more!)
X-ALT-DESC;FMTTYPE=text/html:Join Richens Eye Center and Nilsson Hearing Center in their special event\, &quot\;Salute to Veterans.&quot\; &nbsp\;<br />\n<br />\nEnter to win drawing (hearing aids\, training program\, iPad\, and many more!)
LOCATION:Richens Eye Center 161 W. 200 N. St. George
UID:e.1117.7282
SEQUENCE:3
DTSTAMP:20260420T065032Z
URL:https://business.stgeorgechamber.com/events/details/salute-to-veterans-11-07-2015-7282
END:VEVENT

END:VCALENDAR
