BEGIN:VCALENDAR
VERSION:2.0
PRODID:-//ChamberMaster//Event Calendar 2.0//EN
METHOD:PUBLISH
X-PUBLISHED-TTL:P3D
REFRESH-INTERVAL:P3D
CALSCALE:GREGORIAN
BEGIN:VEVENT
DTSTART:20151220T023000Z
DTEND:20151220T040000Z
X-MICROSOFT-CDO-ALLDAYEVENT:FALSE
SUMMARY:Ryan Shupe and Eric Dodge Christmas Concert
DESCRIPTION:Tis the season for Christmas tunes. Two favorites\, Ryan Shupe and Eric Dodge come together to light up the night with season favorites in a jazz and country way.
X-ALT-DESC;FMTTYPE=text/html:Tis the season for Christmas tunes. Two favorites\, Ryan Shupe and Eric Dodge come together to light up the night with season favorites in a jazz and country way.
LOCATION:Cox Performing Arts Center
UID:e.1117.7349
SEQUENCE:3
DTSTAMP:20260420T031744Z
URL:https://business.stgeorgechamber.com/events/details/ryan-shupe-and-eric-dodge-christmas-concert-12-19-2015-7349
END:VEVENT

END:VCALENDAR
