BEGIN:VCALENDAR
VERSION:2.0
PRODID:-//ChamberMaster//Event Calendar 2.0//EN
METHOD:PUBLISH
X-PUBLISHED-TTL:P3D
REFRESH-INTERVAL:P3D
CALSCALE:GREGORIAN
BEGIN:VEVENT
DTSTART:20150917T000000Z
DTEND:20150917T040000Z
X-MICROSOFT-CDO-ALLDAYEVENT:FALSE
SUMMARY:Round Up Days Barn Dance
DESCRIPTION:American Legion Post 90 proudly presents ROUND UP DAYS FREE BARN DANCE!\n\n\nClean off that western wear and kick on your boots!  Start the St. George Round Up days with:\n\n*Live Country Music\n\n*Country Dance Lessons\n\n*BBQ Dinner for a $5 Donation
X-ALT-DESC;FMTTYPE=text/html:<div style="text-align: center\;"><span style="font-size:14px\;"><span style="font-family:arial\;">American Legion Post 90 proudly presents ROUND UP DAYS FREE BARN DANCE!</span></span></div>\n<br />\n<span style="font-size:14px\;"><span style="font-family:arial\;">Clean off that western wear and kick on your boots! &nbsp\;Start the St. George Round Up days with:<br />\n*Live Country Music<br />\n*Country Dance Lessons<br />\n*BBQ Dinner for a $5 Donation</span></span>
LOCATION:Hela Seegmiller Historic Farm 3000 E. 2450 S. in St. George
UID:e.1117.7077
SEQUENCE:3
DTSTAMP:20260420T084659Z
URL:https://business.stgeorgechamber.com/events/details/round-up-days-barn-dance-09-16-2015-7077
END:VEVENT

END:VCALENDAR
