BEGIN:VCALENDAR
VERSION:2.0
PRODID:-//ChamberMaster//Event Calendar 2.0//EN
METHOD:PUBLISH
X-PUBLISHED-TTL:P3D
REFRESH-INTERVAL:P3D
CALSCALE:GREGORIAN
BEGIN:VEVENT
DTSTART:20141001T170000Z
DTEND:20141031T000000Z
X-MICROSOFT-CDO-ALLDAYEVENT:FALSE
SUMMARY:Rob W Wilson Solo Exhibit at the DiFiore Center
DESCRIPTION:Rob J. Wilson will present his most recent series of oil paintings by debuting in a solo exhibition at the Roene B. DiFiore Center for Arts and Education.
X-ALT-DESC;FMTTYPE=text/html:Rob J. Wilson will present his most recent series of oil paintings by debuting in a solo exhibition at the Roene B. DiFiore Center for Arts and Education.
LOCATION:The DiFiore Center
UID:e.1117.6151
SEQUENCE:3
DTSTAMP:20260421T030155Z
URL:https://business.stgeorgechamber.com/events/details/rob-w-wilson-solo-exhibit-at-the-difiore-center-10-01-2014-6151
END:VEVENT

END:VCALENDAR
