BEGIN:VCALENDAR
VERSION:2.0
PRODID:-//ChamberMaster//Event Calendar 2.0//EN
METHOD:PUBLISH
X-PUBLISHED-TTL:P3D
REFRESH-INTERVAL:P3D
CALSCALE:GREGORIAN
BEGIN:VEVENT
DTSTART:20140928T000000Z
DTEND:20140928T030000Z
X-MICROSOFT-CDO-ALLDAYEVENT:FALSE
SUMMARY:Rob W Wilson Solo Exhibit at the DiFiore Center
DESCRIPTION:The DiFiore Center invites you to the solo exhibit of artist Rob W Wilson. September 27\, 2014 from 6:00pm to 9:00 pm. Rob J Wilson grew up painting and drawing in the beautiful vistas of Southern Utah. From an early age he honed his art skills and at fourteen received an apprenticeship with a gallery painter\, confirming his dream of being an artist. At eighteen he graduated summa cum laude with his BFA in Studio Art from Southern Utah University and went on to achieve his MFA in Figurative Painting from the Academy of Art University in San Francisco. An award winning painter\, Rob has been involved in national invitational shows\, plein air events\, and literary publications. He currently teaches art at Dixie State University and is creating a new body of work which is a culmination of his talents\, dedication\, and artistic vision.
X-ALT-DESC;FMTTYPE=text/html:The DiFiore Center invites you to the solo exhibit of artist Rob W Wilson. September 27\, 2014 from 6:00pm to 9:00 pm. Rob J Wilson grew up painting and drawing in the beautiful vistas of Southern Utah. From an early age he honed his art skills and at fourteen received an apprenticeship with a gallery painter\, confirming his dream of being an artist. At eighteen he graduated summa cum laude with his BFA in Studio Art from Southern Utah University and went on to achieve his MFA in Figurative Painting from the Academy of Art University in San Francisco. An award winning painter\, Rob has been involved in national invitational shows\, plein air events\, and literary publications. He currently teaches art at Dixie State University and is creating a new body of work which is a culmination of his talents\, dedication\, and artistic vision.
LOCATION:The DiFiore Center
UID:e.1117.6101
SEQUENCE:3
DTSTAMP:20260421T043638Z
URL:https://business.stgeorgechamber.com/events/details/rob-w-wilson-solo-exhibit-at-the-difiore-center-09-27-2014-6101
END:VEVENT

END:VCALENDAR
