BEGIN:VCALENDAR
VERSION:2.0
PRODID:-//ChamberMaster//Event Calendar 2.0//EN
METHOD:PUBLISH
X-PUBLISHED-TTL:P3D
REFRESH-INTERVAL:P3D
CALSCALE:GREGORIAN
BEGIN:VEVENT
DTSTART;VALUE=DATE:20210908
DTEND;VALUE=DATE:20210909
TRANSP:TRANSPARENT
X-MICROSOFT-CDO-ALLDAYEVENT:TRUE
SUMMARY:RISE Business Summit
DESCRIPTION:The St. George Area Chamber of Commerce is proud to present the RISE Business Summit on September 8th\, 2021 at the Dixie Convention Center. This one-day event is filled with influential speakers from innovative companies like Walker Edison\, Rhone\, Skywest\, Pelion Venture Partners\, David Eccles School of Business\, Bondir\, Colliers\, Lovesac\, and more. Learn cutting-edge business solutions to help you run your business at the top of your game.
X-ALT-DESC;FMTTYPE=text/html:<span style="color: rgb(39\, 39\, 39)\; font-family: Montserrat\, sans-serif\; font-size: 15px\; letter-spacing: 0.26px\; text-align: center\; background-color: rgb(255\, 255\, 255)\;">The St. George Area Chamber of Commerce is proud to present the RISE Business Summit on September 8th\, 2021 at the Dixie Convention Center. This one-day event is filled with influential speakers from innovative companies like Walker Edison\, Rhone\, Skywest\, Pelion Venture Partners\, David Eccles School of Business\, Bondir\, Colliers\, Lovesac\, and more. Learn cutting-edge business solutions to help you run your business at the top of your game.</span>
LOCATION:Dixie Convention Center 1835 S Convention Center Dr St. George\, UT 84790
UID:e.1117.16164
SEQUENCE:3
DTSTAMP:20260425T033103Z
URL:https://business.stgeorgechamber.com/events/details/rise-business-summit-16164
END:VEVENT

END:VCALENDAR
