BEGIN:VCALENDAR
VERSION:2.0
PRODID:-//ChamberMaster//Event Calendar 2.0//EN
METHOD:PUBLISH
X-PUBLISHED-TTL:P3D
REFRESH-INTERVAL:P3D
CALSCALE:GREGORIAN
BEGIN:VEVENT
DTSTART:20150621T020000Z
DTEND:20150621T050000Z
X-MICROSOFT-CDO-ALLDAYEVENT:FALSE
SUMMARY:Ririe-Woodbury Dance Company
DESCRIPTION:Ririe-Woodbury Dance Company is in constant motion\, known both nationally and internationally for commissioning works by exceptional choreographers as well as our own artistic director Daniel Charon. Ririe-Woodbury is deeply invested in the language of contemporary dance and strives to be at the forefront thus providing audiences with a variety of choreographic styles in a single evening. The Company's repertory ranges from minimalist to multi-media dances by some of the world's best contemporary choreographers. Ririe-Woodbury as a company is committed to producing innovative\, moving and compelling work that challenges our audiences' perceptions of what contemporary dance can be.
X-ALT-DESC;FMTTYPE=text/html:Ririe-Woodbury Dance Company is in constant motion\, known both nationally and internationally for commissioning works by exceptional choreographers as well as our own artistic director Daniel Charon. Ririe-Woodbury is deeply invested in the language of contemporary dance and strives to be at the forefront thus providing audiences with a variety of choreographic styles in a single evening. The Company&#39\;s repertory ranges from minimalist to multi-media dances by some of the world&#39\;s best contemporary choreographers. Ririe-Woodbury as a company is committed to producing innovative\, moving and compelling work that challenges our audiences&#39\; perceptions of what contemporary dance can be.
LOCATION:OC Tanner Amphitheater Springdale\, Utah
UID:e.1117.6481
SEQUENCE:3
DTSTAMP:20260420T155332Z
URL:https://business.stgeorgechamber.com/events/details/ririe-woodbury-dance-company-06-20-2015-6481
END:VEVENT

END:VCALENDAR
