BEGIN:VCALENDAR
VERSION:2.0
PRODID:-//ChamberMaster//Event Calendar 2.0//EN
METHOD:PUBLISH
X-PUBLISHED-TTL:P3D
REFRESH-INTERVAL:P3D
CALSCALE:GREGORIAN
BEGIN:VEVENT
DTSTART:20130907T013000Z
DTEND:20130907T030000Z
X-MICROSOFT-CDO-ALLDAYEVENT:FALSE
SUMMARY:Riders of the Purple Sage
DESCRIPTION:Cody Bryant and the great Foy Willing's Riders of the Purple Sage Benefit Concert.  All proceeds benefit Dixei Care and Share.
X-ALT-DESC;FMTTYPE=text/html:Cody Bryant and the great Foy Willing&#39\;s Riders of the Purple Sage Benefit Concert. &nbsp\;All proceeds benefit Dixei Care and Share.&nbsp\;&nbsp\;&nbsp\;&nbsp\;
LOCATION:Cox Auditorium Dixie State University
UID:e.1117.4277
SEQUENCE:3
DTSTAMP:20260421T213833Z
URL:https://business.stgeorgechamber.com/events/details/riders-of-the-purple-sage-09-06-2013-4277
END:VEVENT

END:VCALENDAR
