BEGIN:VCALENDAR
VERSION:2.0
PRODID:-//ChamberMaster//Event Calendar 2.0//EN
METHOD:PUBLISH
X-PUBLISHED-TTL:P3D
REFRESH-INTERVAL:P3D
CALSCALE:GREGORIAN
BEGIN:VEVENT
DTSTART:20231109T190000Z
DTEND:20231109T210000Z
X-MICROSOFT-CDO-ALLDAYEVENT:FALSE
SUMMARY:RIBBON CUTTING - The Kitchen by Workturf
DESCRIPTION:Please join us on Thursday\, November 9th from 12pm-2pm for our Grand Opening\, Ribbon Cutting\, and Tour* our newest addition to the workturf family\n\n\n\nIntroducing the kitchen by workturf\, southern Utah's newest commissary kitchen. We can accommodate food truck prep\, holiday cooking or hosting needs\, cooking shows or classes\, catering\, or ghost kitchen for online orders. Our kitchen can be rented by the hour\, day\, or month. Table and chair rentals available for event space.
X-ALT-DESC;FMTTYPE=text/html:<strong><span style="font-size:16pt\;">Please join us on Thursday\, November 9</span><span style="font-size: 17.7778px\;">th</span><span style="font-size: 16pt\;">&nbsp\;from 12pm-2pm for our Grand Opening\, Ribbon Cutting\, and Tour* our newest addition to the workturf family</span></strong><br />\n<br />\n<span style="font-size:14pt\;">Introducing the kitchen by workturf\, southern Utah&rsquo\;s newest commissary kitchen. We can accommodate food truck prep\, holiday cooking or hosting needs\, cooking shows or classes\, catering\, or ghost kitchen for online orders. Our kitchen can be rented by the hour\, day\, or month. Table and chair rentals available for event space.</span>
LOCATION:1487 S. Silicon Way St. George\, Ut 84770
UID:e.1117.17243
SEQUENCE:3
DTSTAMP:20260423T084800Z
URL:https://business.stgeorgechamber.com/events/details/ribbon-cutting-the-kitchen-by-workturf-17243
END:VEVENT

END:VCALENDAR
