BEGIN:VCALENDAR
VERSION:2.0
PRODID:-//ChamberMaster//Event Calendar 2.0//EN
METHOD:PUBLISH
X-PUBLISHED-TTL:P3D
REFRESH-INTERVAL:P3D
CALSCALE:GREGORIAN
BEGIN:VEVENT
DTSTART:20240828T230000Z
DTEND:20240829T020000Z
X-MICROSOFT-CDO-ALLDAYEVENT:FALSE
SUMMARY:RIBBON CUTTING - The Aster Weddings & Events Venue
DESCRIPTION:Join us for the Grand Opening Celebration of the Aster Wedding & Events Venue!\n\nSavor complimentary refreshments\n\nExplore their stunning venue\n\n& Discover how they can elevate your special events
X-ALT-DESC;FMTTYPE=text/html:<p class="whitespace-pre-wrap break-words"><span style="font-size:18px\;">Join us for the Grand Opening Celebration of the Aster Wedding &amp\; Events Venue!</span></p>\n\n<p class="whitespace-pre-wrap break-words"><span style="font-size:18px\;">Savor complimentary refreshments<br />\nExplore their stunning venue<br />\n&amp\; Discover how they can elevate your special events</span><br />\n&nbsp\;</p>\n
LOCATION:
UID:e.1117.17646
SEQUENCE:3
DTSTAMP:20260421T083929Z
URL:https://business.stgeorgechamber.com/events/details/ribbon-cutting-the-aster-weddings-events-venue-17646
END:VEVENT

END:VCALENDAR
