BEGIN:VCALENDAR
VERSION:2.0
PRODID:-//ChamberMaster//Event Calendar 2.0//EN
METHOD:PUBLISH
X-PUBLISHED-TTL:P3D
REFRESH-INTERVAL:P3D
CALSCALE:GREGORIAN
BEGIN:VEVENT
DTSTART:20241108T223000Z
DTEND:20241108T233000Z
X-MICROSOFT-CDO-ALLDAYEVENT:FALSE
SUMMARY:RIBBON CUTTING - Ropes of Southern Utah
DESCRIPTION:Join the Ropes of Southern Utah for their Grand Opening and Ribbon Cutting!
X-ALT-DESC;FMTTYPE=text/html:<div style="text-align: center\;"><span style="font-size:20px\;">Join the Ropes of Southern Utah for their Grand Opening and Ribbon Cutting!</span></div>\n
LOCATION:
UID:e.1117.17844
SEQUENCE:3
DTSTAMP:20260420T025714Z
URL:https://business.stgeorgechamber.com/events/details/ribbon-cutting-ropes-of-southern-utah-17844
END:VEVENT

END:VCALENDAR
