BEGIN:VCALENDAR
VERSION:2.0
PRODID:-//ChamberMaster//Event Calendar 2.0//EN
METHOD:PUBLISH
X-PUBLISHED-TTL:P3D
REFRESH-INTERVAL:P3D
CALSCALE:GREGORIAN
BEGIN:VEVENT
DTSTART:20250321T180000Z
DTEND:20250321T190000Z
X-MICROSOFT-CDO-ALLDAYEVENT:FALSE
SUMMARY:RIBBON CUTTING - Red Sands Psychiatry -and- Red Sands Restorative Therapy & Counseling
DESCRIPTION:Join Us For Our\n\n \n\nGRAND OPENING\n\n \n\nRed Sands\n\nPsychiatry\n\n-and-\n\nRestorative Therapy\n\n& Counseling
X-ALT-DESC;FMTTYPE=text/html:<p class="p1" style="margin: 0px\; font-variant-numeric: normal\; font-variant-east-asian: normal\; font-variant-alternates: normal\; font-kerning: auto\; font-optical-sizing: auto\; font-feature-settings: normal\; font-variation-settings: normal\; font-variant-position: normal\; font-stretch: normal\; font-size: 12px\; line-height: normal\; font-family: Helvetica\; color: rgb(0\, 0\, 0)\; text-align: center\;"><span style="font-family:times new roman\;"><span style="font-size:36px\;"><strong>Join Us For Our</strong></span></span><br />\n&nbsp\;</p>\n\n<p class="p1" style="margin: 0px\; font-variant-numeric: normal\; font-variant-east-asian: normal\; font-variant-alternates: normal\; font-kerning: auto\; font-optical-sizing: auto\; font-feature-settings: normal\; font-variation-settings: normal\; font-variant-position: normal\; font-stretch: normal\; font-size: 12px\; line-height: normal\; font-family: Helvetica\; color: rgb(0\, 0\, 0)\; text-align: center\;"><span style="font-family:times new roman\;"><span style="font-size:36px\;"><strong>GRAND OPENING</strong></span></span><br />\n&nbsp\;</p>\n\n<p class="p1" style="margin: 0px\; font-variant-numeric: normal\; font-variant-east-asian: normal\; font-variant-alternates: normal\; font-kerning: auto\; font-optical-sizing: auto\; font-feature-settings: normal\; font-variation-settings: normal\; font-variant-position: normal\; font-stretch: normal\; font-size: 12px\; line-height: normal\; font-family: Helvetica\; color: rgb(0\, 0\, 0)\; text-align: center\;"><span style="font-size:36px\;"><span style="color:#8B4513\;"><strong><span style="font-family:arial\;">Red Sands</span></strong></span></span></p>\n\n<p class="p1" style="margin: 0px\; font-variant-numeric: normal\; font-variant-east-asian: normal\; font-variant-alternates: normal\; font-kerning: auto\; font-optical-sizing: auto\; font-feature-settings: normal\; font-variation-settings: normal\; font-variant-position: normal\; font-stretch: normal\; font-size: 12px\; line-height: normal\; font-family: Helvetica\; color: rgb(0\, 0\, 0)\; text-align: center\;"><span style="font-family:verdana\;"><span style="font-size:36px\;"><span style="color:#8B4513\;"><strong>Psychiatry</strong></span></span></span></p>\n\n<p class="p1" style="margin: 0px\; font-variant-numeric: normal\; font-variant-east-asian: normal\; font-variant-alternates: normal\; font-kerning: auto\; font-optical-sizing: auto\; font-feature-settings: normal\; font-variation-settings: normal\; font-variant-position: normal\; font-stretch: normal\; font-size: 12px\; line-height: normal\; font-family: Helvetica\; color: rgb(0\, 0\, 0)\; text-align: center\;"><span style="font-family:verdana\;"><span style="font-size:36px\;"><span style="color:#8B4513\;"><strong>-and-</strong></span></span></span></p>\n\n<p class="p1" style="margin: 0px\; font-variant-numeric: normal\; font-variant-east-asian: normal\; font-variant-alternates: normal\; font-kerning: auto\; font-optical-sizing: auto\; font-feature-settings: normal\; font-variation-settings: normal\; font-variant-position: normal\; font-stretch: normal\; font-size: 12px\; line-height: normal\; font-family: Helvetica\; color: rgb(0\, 0\, 0)\; text-align: center\;"><span style="font-family:verdana\;"><span style="font-size:36px\;"><span style="color:#8B4513\;"><strong>Restorative Therapy</strong></span></span></span></p>\n\n<p class="p1" style="margin: 0px\; font-variant-numeric: normal\; font-variant-east-asian: normal\; font-variant-alternates: normal\; font-kerning: auto\; font-optical-sizing: auto\; font-feature-settings: normal\; font-variation-settings: normal\; font-variant-position: normal\; font-stretch: normal\; font-size: 12px\; line-height: normal\; font-family: Helvetica\; color: rgb(0\, 0\, 0)\; text-align: center\;"><span style="font-family:verdana\;"><span style="font-size:36px\;"><span style="color:#8B4513\;"><strong>&amp\; Counseling</strong></span></span></span></p>\n
LOCATION:437 South Bluff Street #102 Saint George\, Utah 84770
UID:e.1117.17983
SEQUENCE:3
DTSTAMP:20260421T084003Z
URL:https://business.stgeorgechamber.com/events/details/ribbon-cutting-red-sands-psychiatry-and-red-sands-restorative-therapy-counseling-17983
END:VEVENT

END:VCALENDAR
