BEGIN:VCALENDAR
VERSION:2.0
PRODID:-//ChamberMaster//Event Calendar 2.0//EN
METHOD:PUBLISH
X-PUBLISHED-TTL:P3D
REFRESH-INTERVAL:P3D
CALSCALE:GREGORIAN
BEGIN:VEVENT
DTSTART:20251216T190000Z
DTEND:20251216T200000Z
X-MICROSOFT-CDO-ALLDAYEVENT:FALSE
SUMMARY:RIBBON CUTTING | Outgrow Accounting & Finance Ribbon Cutting
DESCRIPTION:You're Invited\n\n \n\nOutgrow Accounting & Finance Ribbon Cutting\n\n \n\nJoin us as we celebrate the official launch of Outgrow\n\n \n\nAccounting & Finance and the beginning of an exciting new\n\n\n\nchapter.\n\n\n\nRibbon cutting\, networking\, and a light celebration to follow.
X-ALT-DESC;FMTTYPE=text/html:<p class="p1" style="margin: 0px\; font-variant-numeric: normal\; font-variant-east-asian: normal\; font-variant-alternates: normal\; font-kerning: auto\; font-optical-sizing: auto\; font-feature-settings: normal\; font-variation-settings: normal\; font-variant-position: normal\; font-stretch: normal\; font-size: 12px\; line-height: normal\; font-family: Helvetica\; color: rgb(0\, 0\, 0)\; text-align: center\;"><span style="font-size:22px\;"><span style="font-family:arial\;">You&#39\;re Invited</span></span><br />\n&nbsp\;</p>\n\n<p class="p1" style="margin: 0px\; font-variant-numeric: normal\; font-variant-east-asian: normal\; font-variant-alternates: normal\; font-kerning: auto\; font-optical-sizing: auto\; font-feature-settings: normal\; font-variation-settings: normal\; font-variant-position: normal\; font-stretch: normal\; font-size: 12px\; line-height: normal\; font-family: Helvetica\; color: rgb(0\, 0\, 0)\; text-align: center\;"><span style="font-size:22px\;"><span style="font-family:arial\;">Outgrow Accounting &amp\; Finance Ribbon Cutting</span></span><br />\n&nbsp\;</p>\n\n<p class="p1" style="margin: 0px\; font-variant-numeric: normal\; font-variant-east-asian: normal\; font-variant-alternates: normal\; font-kerning: auto\; font-optical-sizing: auto\; font-feature-settings: normal\; font-variation-settings: normal\; font-variant-position: normal\; font-stretch: normal\; font-size: 12px\; line-height: normal\; font-family: Helvetica\; color: rgb(0\, 0\, 0)\; text-align: center\;"><span style="font-size:22px\;"><span style="font-family:arial\;">Join us as we celebrate the official launch of Outgrow</span></span><br />\n&nbsp\;</p>\n\n<p class="p1" style="margin: 0px\; font-variant-numeric: normal\; font-variant-east-asian: normal\; font-variant-alternates: normal\; font-kerning: auto\; font-optical-sizing: auto\; font-feature-settings: normal\; font-variation-settings: normal\; font-variant-position: normal\; font-stretch: normal\; font-size: 12px\; line-height: normal\; font-family: Helvetica\; color: rgb(0\, 0\, 0)\; text-align: center\;"><span style="font-size:22px\;"><span style="font-family:arial\;">Accounting &amp\; Finance and the beginning of an exciting new<br />\n<br />\nchapter.<br />\n<br />\nRibbon cutting\, networking\, and a light celebration to follow.</span></span></p>\n
LOCATION:St George Area Chamber of Commerce
UID:e.1117.18483
SEQUENCE:3
DTSTAMP:20260425T163131Z
URL:https://business.stgeorgechamber.com/events/details/ribbon-cutting-outgrow-accounting-finance-ribbon-cutting-18483
END:VEVENT

END:VCALENDAR
