BEGIN:VCALENDAR
VERSION:2.0
PRODID:-//ChamberMaster//Event Calendar 2.0//EN
METHOD:PUBLISH
X-PUBLISHED-TTL:P3D
REFRESH-INTERVAL:P3D
CALSCALE:GREGORIAN
BEGIN:VEVENT
DTSTART:20250319T210000Z
DTEND:20250319T210000Z
X-MICROSOFT-CDO-ALLDAYEVENT:FALSE
SUMMARY:RIBBON CUTTING | LKL & Associates
DESCRIPTION:Grand Opening & Ribbon Cutting\n\nJoin LKL & Associates for free food and raffle\n\n\n\nFood - Vendors - Tool sale\n\n\n\nOver $35\,000 in prizes \n\nIpads Blackstone grills TV Yeti coolers Saws Nailguns Tools Xbox Playstation Apple products\n\nJoin
X-ALT-DESC;FMTTYPE=text/html:<p class="p1" style="margin: 0px\; font-variant-numeric: normal\; font-variant-east-asian: normal\; font-variant-alternates: normal\; font-kerning: auto\; font-optical-sizing: auto\; font-feature-settings: normal\; font-variation-settings: normal\; font-variant-position: normal\; font-stretch: normal\; line-height: normal\; color: rgb(0\, 0\, 0)\; text-align: center\;"><span style="font-size:28px\;"><span style="font-family:arial\;"><strong>Grand Opening &amp\; Ribbon Cutting<br />\nJoin LKL &amp\; Associates&nbsp\;for free food and raffle<br />\n<br />\nFood - Vendors - Tool sale</strong></span></span><br />\n<br />\n<strong style="color: rgb(0\, 0\, 0)\; font-family: arial\; font-size: 28px\; text-align: center\;">Over $35\,000 in prizes&nbsp\;</strong><br />\n<span style="font-size:28px\;"><span style="font-family:arial\;"><strong>Ipads Blackstone grills TV Yeti coolers Saws Nailguns Tools Xbox Playstation Apple products</strong></span></span></p>\n\n<p class="p1" style="margin: 0px\; font-variant-numeric: normal\; font-variant-east-asian: normal\; font-variant-alternates: normal\; font-kerning: auto\; font-optical-sizing: auto\; font-feature-settings: normal\; font-variation-settings: normal\; font-variant-position: normal\; font-stretch: normal\; font-size: 31.9px\; line-height: normal\; font-family: Helvetica\; color: rgb(255\, 255\, 255)\; text-align: center\;"><span style="font-size:28px\;">Join</span></p>\n
LOCATION:
UID:e.1117.18043
SEQUENCE:3
DTSTAMP:20260421T125105Z
URL:https://business.stgeorgechamber.com/events/details/ribbon-cutting-lkl-associates-18043
END:VEVENT

END:VCALENDAR
