BEGIN:VCALENDAR
VERSION:2.0
PRODID:-//ChamberMaster//Event Calendar 2.0//EN
METHOD:PUBLISH
X-PUBLISHED-TTL:P3D
REFRESH-INTERVAL:P3D
CALSCALE:GREGORIAN
BEGIN:VEVENT
DTSTART:20251219T180000Z
DTEND:20251219T190000Z
X-MICROSOFT-CDO-ALLDAYEVENT:FALSE
SUMMARY:RIBBON CUTTING | Hearing and Brain Centers of America
DESCRIPTION:PLEASE JOIN US!\n\n\n\nCome Celebrate the\n\nRibbon Cutting\n\nof the\n\nHearing and Brain\n\nCenters of America\n\non River Road\n\n\n\nRefreshments will be served.
X-ALT-DESC;FMTTYPE=text/html:<p class="p1" style="margin: 0px\; font-variant-numeric: normal\; font-variant-east-asian: normal\; font-variant-alternates: normal\; font-kerning: auto\; font-optical-sizing: auto\; font-feature-settings: normal\; font-variation-settings: normal\; font-variant-position: normal\; font-stretch: normal\; font-size: 34px\; line-height: normal\; font-family: &quot\;Times New Roman&quot\;\; color: rgb(146\, 99\, 33)\;">PLEASE JOIN US!<br />\n<br />\n<b><span style="color:#696969\;">Come Celebrate the</span><br />\nRibbon Cutting<br />\n<span style="color:#696969\;">of the</span><br />\n<span style="color:#000080\;">Hearing and Brain</span><br />\n<span style="color:#696969\;">Centers of America<br />\non River Road</span></b><br />\n<br />\n<span style="color:#696969\;"><i>Refreshments will be served.</i></span></p>\n
LOCATION:
UID:e.1117.18439
SEQUENCE:3
DTSTAMP:20260425T162958Z
URL:https://business.stgeorgechamber.com/events/details/ribbon-cutting-hearing-and-brain-centers-of-america-18439
END:VEVENT

END:VCALENDAR
