BEGIN:VCALENDAR
VERSION:2.0
PRODID:-//ChamberMaster//Event Calendar 2.0//EN
METHOD:PUBLISH
X-PUBLISHED-TTL:P3D
REFRESH-INTERVAL:P3D
CALSCALE:GREGORIAN
BEGIN:VEVENT
DTSTART:20130430T180000Z
DTEND:20130430T200000Z
X-MICROSOFT-CDO-ALLDAYEVENT:FALSE
SUMMARY:Ribbon Cutting for Jen Kraft\, LPGA
DESCRIPTION:Join Jen Kraft for a ribbon cutting!  Learn how to be a better golf putter with a free clinic at 12:30 and a free chipping clinic at 1:15.
X-ALT-DESC;FMTTYPE=text/html:Join Jen Kraft for a ribbon cutting! &nbsp\;Learn how to be a better golf putter with a free clinic at 12:30 and a free chipping clinic at 1:15.
LOCATION:Coral Canyon Clubhouse
UID:e.1117.2953
SEQUENCE:3
DTSTAMP:20260422T060630Z
URL:https://business.stgeorgechamber.com/events/details/ribbon-cutting-for-jen-kraft-lpga-04-30-2013-2953
END:VEVENT

END:VCALENDAR
