BEGIN:VCALENDAR
VERSION:2.0
PRODID:-//ChamberMaster//Event Calendar 2.0//EN
METHOD:PUBLISH
X-PUBLISHED-TTL:P3D
REFRESH-INTERVAL:P3D
CALSCALE:GREGORIAN
BEGIN:VEVENT
DTSTART:20240509T180000Z
DTEND:20240509T190000Z
X-MICROSOFT-CDO-ALLDAYEVENT:FALSE
SUMMARY:RIBBON CUTTING | First Service Mechanical
DESCRIPTION:
X-ALT-DESC;FMTTYPE=text/html:
LOCATION:Suite 15
UID:e.1117.17593
SEQUENCE:3
DTSTAMP:20260421T003340Z
URL:https://business.stgeorgechamber.com/events/details/ribbon-cutting-first-service-mechanical-17593
END:VEVENT

END:VCALENDAR
