BEGIN:VCALENDAR
VERSION:2.0
PRODID:-//ChamberMaster//Event Calendar 2.0//EN
METHOD:PUBLISH
X-PUBLISHED-TTL:P3D
REFRESH-INTERVAL:P3D
CALSCALE:GREGORIAN
BEGIN:VEVENT
DTSTART:20230117T210000Z
DTEND:20230118T010000Z
X-MICROSOFT-CDO-ALLDAYEVENT:FALSE
SUMMARY:RIBBON CUTTING EVENT: BodyFix Medical
DESCRIPTION:Join us as we celebrate BodyFix Medical\, a new primary care clinic in St George\, Utah\, that focuses on a functional\, proactive\, and preventative approach to health care and specializes in hormone therapy for men and women.\n\nTheir event will include many activities\, as well as light refreshments. We hope to see you there.
X-ALT-DESC;FMTTYPE=text/html:<div class="x11i5rnm xat24cr x1mh8g0r x1vvkbs xdj266r" style="margin: 0px\; overflow-wrap: break-word\; font-family: &quot\;Segoe UI Historic&quot\;\, &quot\;Segoe UI&quot\;\, Helvetica\, Arial\, sans-serif\; color: rgb(5\, 5\, 5)\; font-size: 15px\;"><span style="font-size:18px\;">Join us as we celebrate BodyFix Medical\, a new primary care clinic in St George\, Utah\, that focuses on a functional\, proactive\, and preventative approach to health care and specializes in hormone therapy for men and women.</span></div>\n\n<div class="x11i5rnm xat24cr x1mh8g0r x1vvkbs xtlvy1s" style="margin: 0.5em 0px 0px\; overflow-wrap: break-word\; font-family: &quot\;Segoe UI Historic&quot\;\, &quot\;Segoe UI&quot\;\, Helvetica\, Arial\, sans-serif\; color: rgb(5\, 5\, 5)\; font-size: 15px\;"><span style="font-size:18px\;">Their event will include many activities\, as well as light refreshments. We hope to see you there.</span></div>\n
LOCATION:1492 S Silicon Way\, Ste B\, St George\, Utah\, 84770
UID:e.1117.16851
SEQUENCE:3
DTSTAMP:20260421T032057Z
URL:https://business.stgeorgechamber.com/events/details/ribbon-cutting-event-bodyfix-medical-16851
END:VEVENT

END:VCALENDAR
