BEGIN:VCALENDAR
VERSION:2.0
PRODID:-//ChamberMaster//Event Calendar 2.0//EN
METHOD:PUBLISH
X-PUBLISHED-TTL:P3D
REFRESH-INTERVAL:P3D
CALSCALE:GREGORIAN
BEGIN:VEVENT
DTSTART:20250318T200000Z
DTEND:20250318T210000Z
X-MICROSOFT-CDO-ALLDAYEVENT:FALSE
SUMMARY:RIBBON CUTTING - Community Resource Center Shelter Expansion
DESCRIPTION:You are invited to the Community Resource Center Shelter Expansion Ribbon Cutting Ceremony
X-ALT-DESC;FMTTYPE=text/html:<p class="p1" style="margin: 0px\; font-variant-numeric: normal\; font-variant-east-asian: normal\; font-variant-alternates: normal\; font-kerning: auto\; font-optical-sizing: auto\; font-feature-settings: normal\; font-variation-settings: normal\; font-variant-position: normal\; font-stretch: normal\; font-size: 12px\; line-height: normal\; font-family: Helvetica\; color: rgb(0\, 0\, 0)\; text-align: center\;"><span style="font-size:22px\;">You are invited to the Community Resource Center Shelter Expansion Ribbon Cutting Ceremony</span></p>\n
LOCATION:948 N. 1300 W. St. George\, UT 84770
UID:e.1117.18038
SEQUENCE:3
DTSTAMP:20260421T130020Z
URL:https://business.stgeorgechamber.com/events/details/ribbon-cutting-community-resource-center-shelter-expansion-18038
END:VEVENT

END:VCALENDAR
