BEGIN:VCALENDAR
VERSION:2.0
PRODID:-//ChamberMaster//Event Calendar 2.0//EN
METHOD:PUBLISH
X-PUBLISHED-TTL:P3D
REFRESH-INTERVAL:P3D
CALSCALE:GREGORIAN
BEGIN:VEVENT
DTSTART:20160603T173000Z
DTEND:20160604T010000Z
X-MICROSOFT-CDO-ALLDAYEVENT:FALSE
SUMMARY:RIBBON CUTTING AND MORE!
DESCRIPTION:ANNOUNCING "The Pottery Avenue Cottage" is now open to serve the neighborhood! This new gift gallery is bursting with personality and one of a kind Polish Stoneware\, Specialty Imports & American made treasures.\n\n\n\nEverything you see will be beautiful and functional as we bring you opportunities to elevate your daily living\, and those you care for\, with quality craftsmanship\, beauty\, and heritage keepsakes.\n\n\n\nThe main attraction is stoneware imported from a small village named Boleslawiec\, Poland\, AKA\, "world famous city of ceramics"\, located on Europes oldest\, royal trade route! The imported articles range from dinnerware & cookware to keepsakes.  Each one has been meticulously and lovingly hand painted using a century old technique called\, "hand stamping." Nature\, tradition\, and heritage are inspirations for motifs developed by master artisans and each shape engineered for excellence by an award winning craftswoman\, Janina Bany-Kowzslawska. All pieces are extremely durable\, chip resistant\, microwave\, dishwasher\, freezer safe and certified to bake up to 480 degrees\, making excellent baking vessels\, home decor and family heirlooms.  With 750 years of tradition behind each piece\, you can feel confident with every purchase.\n\n\n\nOur cottage was designed to transport you to a joyful\, elegant\, European setting so come in\, enjoy a cup of tea and discover your next treasure or gift for that special occasion!\n\n\n\nJoin us on Facebook for updates or call 435-669-0650.  If you would like to shop online\, visit our corporate office web site\, www.PotteryAvenue.com and use twila as your coupon code to receive 20% off your order!
X-ALT-DESC;FMTTYPE=text/html:<span style="font-size:10pt"><span style="font-family:arial\,sans-serif"><span style="color:rgb(51\, 51\, 51)">ANNOUNCING &quot\;The Pottery Avenue Cottage&quot\; is now open to serve the neighborhood! This new gift gallery is bursting with personality and one of a kind Polish Stoneware\, Specialty Imports &amp\; American made treasures.<br />\n<br />\nEverything you see will be beautiful and functional as we bring you opportunities to elevate your daily living\, and those you care for\,&nbsp\;with quality craftsmanship\, beauty\, and heritage keepsakes.<br />\n<br />\nThe main attraction is&nbsp\;stoneware imported from a small village named Boleslawiec\, Poland\, AKA\, &quot\;world famous city of ceramics&quot\;\, located on Europes oldest\, royal trade route! The imported articles range from dinnerware &amp\; cookware to keepsakes.&nbsp\; Each one has been meticulously and lovingly hand painted using a century old technique called\, &quot\;hand stamping.&quot\;&nbsp\;Nature\, tradition\, and heritage are inspirations for motifs developed by&nbsp\;master artisans and each shape engineered for excellence by an award winning craftswoman\, Janina Bany-Kowzslawska. All pieces are extremely durable\, chip resistant\, microwave\, dishwasher\, freezer safe and certified to bake up to 480 degrees\, making excellent baking vessels\, home decor and family heirlooms.&nbsp\;&nbsp\;With 750 years of tradition behind each piece\, you can feel confident&nbsp\;with every purchase.<br />\n<br />\nOur cottage was designed to&nbsp\;transport you to a joyful\, elegant\,&nbsp\;European setting so come in\, enjoy a cup of tea&nbsp\;and discover your next treasure or gift for that special occasion!<br />\n<br />\nJoin us on <a href="https://www.facebook.com/PotteryAvenueCottage/">Facebook</a> for updates or call 435-669-0650.&nbsp\; If you would like to shop online\, visit our&nbsp\;corporate office web site\, <a href="http://www.PotteryAvenue.com">www.PotteryAvenue.com</a>&nbsp\;and use twila as your coupon code to receive 20% off your order!</span></span></span>
LOCATION:231 East 100 South St. George UT 84770
UID:e.1117.8611
SEQUENCE:3
DTSTAMP:20260419T165122Z
URL:https://business.stgeorgechamber.com/events/details/ribbon-cutting-and-more-06-03-2016-8611
END:VEVENT

END:VCALENDAR
