BEGIN:VCALENDAR
VERSION:2.0
PRODID:-//ChamberMaster//Event Calendar 2.0//EN
METHOD:PUBLISH
X-PUBLISHED-TTL:P3D
REFRESH-INTERVAL:P3D
CALSCALE:GREGORIAN
BEGIN:VEVENT
DTSTART:20260410T140000Z
DTEND:20260410T150000Z
X-MICROSOFT-CDO-ALLDAYEVENT:FALSE
SUMMARY:RIBBON CUTTING | America First Credit Union
DESCRIPTION:
X-ALT-DESC;FMTTYPE=text/html:
LOCATION:Desert Color Branch
UID:e.1117.18636
SEQUENCE:3
DTSTAMP:20260420T194803Z
URL:https://business.stgeorgechamber.com/events/details/ribbon-cutting-america-first-credit-union-18636
END:VEVENT

END:VCALENDAR
