BEGIN:VCALENDAR
VERSION:2.0
PRODID:-//ChamberMaster//Event Calendar 2.0//EN
METHOD:PUBLISH
X-PUBLISHED-TTL:P3D
REFRESH-INTERVAL:P3D
CALSCALE:GREGORIAN
BEGIN:VEVENT
DTSTART:20250327T170000Z
DTEND:20250327T190000Z
X-MICROSOFT-CDO-ALLDAYEVENT:FALSE
SUMMARY:RIBBON CUTTING - Altabank
DESCRIPTION:Altabank\n\n\n\nInvites you to join us for a\n\n\n\nRibbon Cutting Ceremony\n\n\n\nCelebrating the re-grand opening of our\n\n \n\nnewly remodeled St. George Blvd Branch
X-ALT-DESC;FMTTYPE=text/html:<p class="p1" style="margin: 0px\; font-variant-numeric: normal\; font-variant-east-asian: normal\; font-variant-alternates: normal\; font-kerning: auto\; font-optical-sizing: auto\; font-feature-settings: normal\; font-variation-settings: normal\; font-variant-position: normal\; font-stretch: normal\; font-size: 12px\; line-height: normal\; font-family: Helvetica\; color: rgb(0\, 0\, 0)\; text-align: center\;"><span style="font-size:36px\;"><span style="font-family:arial\;"><strong><span style="font-size:48px\;">Altabank</span></strong><br />\n<br />\n<span style="font-size:28px\;">Invites you to join us for a</span><br />\n<br />\n<span style="color:#0000FF\;">Ribbon Cutting Ceremony</span><br />\n<br />\n<span style="font-size:28px\;">Celebrating the re-grand opening of our</span></span></span><br />\n&nbsp\;</p>\n\n<p class="p1" style="margin: 0px\; font-variant-numeric: normal\; font-variant-east-asian: normal\; font-variant-alternates: normal\; font-kerning: auto\; font-optical-sizing: auto\; font-feature-settings: normal\; font-variation-settings: normal\; font-variant-position: normal\; font-stretch: normal\; font-size: 12px\; line-height: normal\; font-family: Helvetica\; color: rgb(0\, 0\, 0)\; text-align: center\;"><span style="font-size:28px\;"><span style="font-family:arial\;">newly remodeled St. George Blvd Branch</span></span></p>\n
LOCATION:405 East St. George Blvd St. George\, UT
UID:e.1117.18041
SEQUENCE:3
DTSTAMP:20260421T125443Z
URL:https://business.stgeorgechamber.com/events/details/ribbon-cutting-altabank-18041
END:VEVENT

END:VCALENDAR
