BEGIN:VCALENDAR
VERSION:2.0
PRODID:-//ChamberMaster//Event Calendar 2.0//EN
METHOD:PUBLISH
X-PUBLISHED-TTL:P3D
REFRESH-INTERVAL:P3D
CALSCALE:GREGORIAN
BEGIN:VEVENT
DTSTART:20140506T160000Z
DTEND:20140506T170000Z
X-MICROSOFT-CDO-ALLDAYEVENT:FALSE
SUMMARY:Ribbon Cutting
DESCRIPTION:Join us in celebrating the opening of our new expanded location on Riverside Drive
X-ALT-DESC;FMTTYPE=text/html:Join us in celebrating the opening of our new expanded location on Riverside Drive
LOCATION:393 East Riverside Dr #101
UID:e.1117.5207
SEQUENCE:3
DTSTAMP:20260421T094922Z
URL:https://business.stgeorgechamber.com/events/details/ribbon-cutting-05-06-2014-5207
END:VEVENT

END:VCALENDAR
