BEGIN:VCALENDAR
VERSION:2.0
PRODID:-//ChamberMaster//Event Calendar 2.0//EN
METHOD:PUBLISH
X-PUBLISHED-TTL:P3D
REFRESH-INTERVAL:P3D
CALSCALE:GREGORIAN
BEGIN:VEVENT
DTSTART:20130811T020000Z
DTEND:20130811T040000Z
X-MICROSOFT-CDO-ALLDAYEVENT:FALSE
SUMMARY:Reid Family Band in Concert
DESCRIPTION:The Reid Family has been playing in Southern Utah for over 17 years with a lot of Old Time Rock and Roll and Classic Country songs\, intermingled with lots of very familiar cover songs that everyone recognizes and enjoys. They perform upbeat rock songs\, as well as many mellow country and love songs. This popular band performs throughout Southern Utah from festivals to weddings with a focus on harmony with entertaining instrumental solos\, driving rhythms\, and a beat that makes for great dancing!
X-ALT-DESC;FMTTYPE=text/html:<span style="color: rgb(0\, 0\, 0)\; font-family: Verdana\, Arial\, Helvetica\, sans-serif\; line-height: 18px\;">The Reid Family has been playing in Southern Utah for over 17 years with a lot of Old Time Rock and Roll and Classic Country songs\, intermingled with lots of very familiar cover songs that everyone recognizes and enjoys. They perform upbeat rock songs\, as well as many mellow country and love songs. This popular band performs throughout Southern Utah from festivals to weddings with a focus on harmony with entertaining instrumental solos\, driving rhythms\, and a beat that makes for great dancing!</span>
LOCATION:Tanner Amphitheater (one mile before the South entrance to Zion National Park) 350 Lion Blvd. Springdale\, UT
UID:e.1117.2972
SEQUENCE:3
DTSTAMP:20260421T233235Z
URL:https://business.stgeorgechamber.com/events/details/reid-family-band-in-concert-08-10-2013-2972
END:VEVENT

END:VCALENDAR
