BEGIN:VCALENDAR
VERSION:2.0
PRODID:-//ChamberMaster//Event Calendar 2.0//EN
METHOD:PUBLISH
X-PUBLISHED-TTL:P3D
REFRESH-INTERVAL:P3D
CALSCALE:GREGORIAN
BEGIN:VEVENT
DTSTART;VALUE=DATE:20131101
DTEND;VALUE=DATE:20131110
TRANSP:TRANSPARENT
X-MICROSOFT-CDO-ALLDAYEVENT:TRUE
SUMMARY:Red Rock Film Festival
DESCRIPTION:St. George's 7th Annual Red Rock Film Festival is coming to Southern Utah. Several new films made by emerging talents on the verge of becoming cinematic luminaires will be included at this year's event\, and the Hurricane Fine Arts Center will be the main site for the insider's scoop! See shorts and full-length features long before they are released in theaters. Attend festival exclusive workshops and panel discussions. Enjoy the thrill of ingenious animation techniques ? get in on the skinny of a new thriller ? feel the buzz of a winning documentary.
X-ALT-DESC;FMTTYPE=text/html:St. George&#39\;s 7th Annual Red Rock Film Festival is coming to Southern Utah. Several new films made by emerging talents on the verge of becoming cinematic luminaires will be included at this year&#39\;s event\, and the Hurricane Fine Arts Center will be the main site for the insider&#39\;s scoop! See shorts and full-length features long before they are released in theaters. Attend festival exclusive workshops and panel discussions. Enjoy the thrill of ingenious animation techniques ? get in on the skinny of a new thriller ? feel the buzz of a winning documentary.
LOCATION:Red Cliffs Cinema\, Zion Lodge\, Green Valley Spa\, and Hurricane Fine Arts Center
UID:e.1117.4305
SEQUENCE:3
DTSTAMP:20260421T183638Z
URL:https://business.stgeorgechamber.com/events/details/red-rock-film-festival-11-01-2013-4305
END:VEVENT

END:VCALENDAR
