BEGIN:VCALENDAR
VERSION:2.0
PRODID:-//ChamberMaster//Event Calendar 2.0//EN
METHOD:PUBLISH
X-PUBLISHED-TTL:P3D
REFRESH-INTERVAL:P3D
CALSCALE:GREGORIAN
BEGIN:VEVENT
DTSTART:20131011T170000Z
DTEND:20131011T190000Z
X-MICROSOFT-CDO-ALLDAYEVENT:FALSE
SUMMARY:Red Rock Center for Independence Open House
DESCRIPTION:The Red Rock Center for Independence has moved locations!! We would like to invite everyone to come to an Open House on Oct. 11\, 2013 from 11:00 to 1:00. A light lunch will be served from 11:30-12:30 with a brief program beginning at 12:30. Please help us celebrate our new move by join us.
X-ALT-DESC;FMTTYPE=text/html:The Red Rock Center for Independence has moved locations!! We would like to invite everyone to come to an Open House on Oct. 11\, 2013 from 11:00 to 1:00. A light lunch will be served from 11:30-12:30 with a brief program beginning at 12:30. Please help us celebrate our new move by join us.
LOCATION:168 N. 100 E.\, Suite 101\, St. George\, UT. 84770
UID:e.1117.4275
SEQUENCE:3
DTSTAMP:20260421T200347Z
URL:https://business.stgeorgechamber.com/events/details/red-rock-center-for-independence-open-house-10-11-2013-4275
END:VEVENT

END:VCALENDAR
