BEGIN:VCALENDAR
VERSION:2.0
PRODID:-//ChamberMaster//Event Calendar 2.0//EN
METHOD:PUBLISH
X-PUBLISHED-TTL:P3D
REFRESH-INTERVAL:P3D
CALSCALE:GREGORIAN
BEGIN:VEVENT
DTSTART:20151126T180000Z
DTEND:20151126T230000Z
X-MICROSOFT-CDO-ALLDAYEVENT:FALSE
SUMMARY:Red Rock Canyon School Community Thanksgiving Dinner
DESCRIPTION:Red Rock Canyon School Founder Frank Habibian welcomes everyone to join them for Thanksgiving.\n\nTo donate or volunteer\, contact Tami at 435-673-6111
X-ALT-DESC;FMTTYPE=text/html:Red Rock Canyon School Founder Frank Habibian welcomes everyone to join them for Thanksgiving.<br />\nTo donate or volunteer\, contact Tami at 435-673-6111
LOCATION:747 E. St. George Blvd. St. George\, UT
UID:e.1117.7347
SEQUENCE:3
DTSTAMP:20260420T065144Z
URL:https://business.stgeorgechamber.com/events/details/red-rock-canyon-school-community-thanksgiving-dinner-11-26-2015-7347
END:VEVENT

END:VCALENDAR
