BEGIN:VCALENDAR
VERSION:2.0
PRODID:-//ChamberMaster//Event Calendar 2.0//EN
METHOD:PUBLISH
X-PUBLISHED-TTL:P3D
REFRESH-INTERVAL:P3D
CALSCALE:GREGORIAN
BEGIN:VEVENT
DTSTART:20151107T160000Z
DTEND:20151107T200000Z
X-MICROSOFT-CDO-ALLDAYEVENT:FALSE
SUMMARY:Red for Recovery Mud Run
DESCRIPTION:Come get DIRTY with the BEST MUD RUN event of the year!!! The AMERICAN NINJA WARRIORS invite you and YOUR ENTIRE FAMILY to come have some fun!!! CA$H PRIZES AND MUCH MUCH MORE! FOOD TRUCKS\, FAMILY FUN ATTRACTIONS\, MUSIC AND A HUGE AFTER PARTY!!! Make sure to get your picture taken with our famous AMERICAN NINJA WARRIORS!! Professional photography available!
X-ALT-DESC;FMTTYPE=text/html:Come get DIRTY with the BEST MUD RUN event of the year!!! The AMERICAN NINJA WARRIORS invite you and YOUR ENTIRE FAMILY to come have some fun!!! CA$H PRIZES AND MUCH MUCH MORE! FOOD TRUCKS\, FAMILY FUN ATTRACTIONS\, MUSIC AND A HUGE AFTER PARTY!!! Make sure to get your picture taken with our famous AMERICAN NINJA WARRIORS!! Professional photography available!
LOCATION:Staheli Family Farm 3400 S. Washington Fields Rd. Washington\, UT 84780
UID:e.1117.7275
SEQUENCE:3
DTSTAMP:20260420T050857Z
URL:https://business.stgeorgechamber.com/events/details/red-for-recovery-mud-run-11-07-2015-7275
END:VEVENT

END:VCALENDAR
