BEGIN:VCALENDAR
VERSION:2.0
PRODID:-//ChamberMaster//Event Calendar 2.0//EN
METHOD:PUBLISH
X-PUBLISHED-TTL:P3D
REFRESH-INTERVAL:P3D
CALSCALE:GREGORIAN
BEGIN:VEVENT
DTSTART:20131031T220000Z
DTEND:20131101T010000Z
X-MICROSOFT-CDO-ALLDAYEVENT:FALSE
SUMMARY:Red Cliffs Mall Halloweenie Roast
DESCRIPTION:Red Cliffs Mall will host the annual Halloweenie Roast   a seasonal celebration featuring family-friendly activities.  Parents and caregivers are invited to bring their children to the mall for an afternoon of fun\, including make-and-take crafts. The mall also will host their annual Trick-or-Treating for kids throughout the center beginning at 4pm.\n\n \n\nEvent activities include free hot-dogs and refreshments from radio station Mix 103.1\, hosted by DJ's Bryan & Cindy.  Inside the mall there are will be Halloween-themed crafts and games for families. Kids ages 2   12 are welcome and encouraged to wear costumes. Children must be accompanied by an adult.  All activities are free. Prizes\, craft and trick-or-treating are while supplies last. \n\nBecome a fan of Red Cliffs Mall on Facebook.  \n\n \n\nRed Cliffs Mall has over 40 shops and restaurants including Barnes & Noble\, Dillard's\, JCPenney\, Sears and Red Cliffs Cinema.  Red Cliffs Mall is owned and managed by General Growth Properties\, a fully integrated\, self-managed and self-administered real estate investment trust focused exclusively on owning\, managing\, leasing\, and redeveloping high quality retail properties throughout the United States. GGP's portfolio is comprised of 123 malls in the United States comprising approximately 128 million square feet. GGP is headquartered in Chicago\, Illinois\, and publicly traded on the NYSE under the symbol GGP.
X-ALT-DESC;FMTTYPE=text/html:<span style="font-family:arial\,sans-serif\;">Red Cliffs Mall will host the annual Halloweenie Roast &ndash\; a seasonal celebration featuring family-friendly activities.&nbsp\; Parents and caregivers are invited to bring their children to the mall for an afternoon of fun\, including make-and-take crafts. The mall also will host their annual Trick-or-Treating for kids throughout the center beginning at 4pm.</span><br />\n&nbsp\;<br />\n<span style="font-family:arial\,sans-serif\;">Event activities include free hot-dogs and refreshments from radio station Mix 103.1\, hosted by DJ&rsquo\;s Bryan &amp\; Cindy.&nbsp\; Inside the mall there are will be Halloween-themed crafts and games for families. Kids ages 2 &ndash\; 12 are welcome and encouraged to wear costumes. Children must be accompanied by an adult.&nbsp\; All activities are free. Prizes\, craft and trick-or-treating are while supplies last. </span><br />\n<span style="font-family:arial\,sans-serif\;">Become a fan of Red Cliffs Mall on Facebook. &nbsp\;</span><br />\n&nbsp\;<br />\n<span style="font-family:arial\,sans-serif\;">Red Cliffs Mall has over 40 shops and restaurants including Barnes &amp\; Noble\, Dillard&rsquo\;s\, JCPenney\, Sears and Red Cliffs Cinema.</span>&nbsp\; <span style="font-family:arial\,sans-serif\;">Red Cliffs Mall is owned and managed by General Growth Properties\, a fully integrated\, self-managed and self-administered real estate investment trust focused exclusively on owning\, managing\, leasing\, and redeveloping high quality retail properties throughout the United States. GGP&rsquo\;s portfolio is comprised of 123 malls in the United States comprising approximately 128 million square feet. GGP is headquartered in Chicago\, Illinois\, and publicly traded on the NYSE under the symbol GGP.</span><br />\n
LOCATION:Red Cliffs Mall\, 1770 East Red Cliffs Drive The Halloweenie Roast takes place outside the Northeast Mall Entrance.
UID:e.1117.4316
SEQUENCE:3
DTSTAMP:20260421T200119Z
URL:https://business.stgeorgechamber.com/events/details/red-cliffs-mall-halloweenie-roast-10-31-2013-4316
END:VEVENT

END:VCALENDAR
