BEGIN:VCALENDAR
VERSION:2.0
PRODID:-//ChamberMaster//Event Calendar 2.0//EN
METHOD:PUBLISH
X-PUBLISHED-TTL:P3D
REFRESH-INTERVAL:P3D
CALSCALE:GREGORIAN
BEGIN:VEVENT
DTSTART:20140912T010000Z
DTEND:20141212T040000Z
X-MICROSOFT-CDO-ALLDAYEVENT:FALSE
SUMMARY:Reclaim Your Spirit
DESCRIPTION:Reclaiming Your Spirit Do You Feel Stuck? Off Track? This class provides an atmosphere for spiritual growth\, companionship and restoration of our spirits! We will read\, write\, explore\, create\, share in storytelling midwifery and be reminded of what brings us joy!
X-ALT-DESC;FMTTYPE=text/html:Reclaiming Your Spirit Do You Feel Stuck? Off Track? This class provides an atmosphere for spiritual growth\, companionship and restoration of our spirits! We will read\, write\, explore\, create\, share in storytelling midwifery and be reminded of what brings us joy!
LOCATION:The DiFiore Center
UID:e.1117.6088
SEQUENCE:3
DTSTAMP:20260421T010931Z
URL:https://business.stgeorgechamber.com/events/details/reclaim-your-spirit-09-11-2014-6088
END:VEVENT

END:VCALENDAR
