BEGIN:VCALENDAR
VERSION:2.0
PRODID:-//ChamberMaster//Event Calendar 2.0//EN
METHOD:PUBLISH
X-PUBLISHED-TTL:P3D
REFRESH-INTERVAL:P3D
CALSCALE:GREGORIAN
BEGIN:VEVENT
DTSTART:20130625T000000Z
DTEND:20130625T030000Z
X-MICROSOFT-CDO-ALLDAYEVENT:FALSE
SUMMARY:Real Estate Investing within a Retirement Account
DESCRIPTION:Learn how the wealthy invest in real estate "inside" a retirement account and actually are in control while their accounts increase in value.
X-ALT-DESC;FMTTYPE=text/html:Learn how the wealthy invest in real estate &quot\;inside&quot\; a retirement account and actually are in control while their accounts increase in value. 
LOCATION:Courtyard by Marriott\, 185 South 1470 East\, St. George\, UT 84790
UID:e.1117.4142
SEQUENCE:3
DTSTAMP:20260422T023859Z
URL:https://business.stgeorgechamber.com/events/details/real-estate-investing-within-a-retirement-account-06-24-2013-4142
END:VEVENT

END:VCALENDAR
