BEGIN:VCALENDAR
VERSION:2.0
PRODID:-//ChamberMaster//Event Calendar 2.0//EN
METHOD:PUBLISH
X-PUBLISHED-TTL:P3D
REFRESH-INTERVAL:P3D
CALSCALE:GREGORIAN
BEGIN:VEVENT
DTSTART:20130626T000000Z
DTEND:20130626T030000Z
X-MICROSOFT-CDO-ALLDAYEVENT:FALSE
SUMMARY:Real Estate Investing 2013
DESCRIPTION:Learn how to invest in today's market and "earn while you learn". No matter what your situation is\, you can learn how to invest and be a part of our club. Perfect opportunity for veterans\, single parents\, retirees\, students\, public service employees\, recently downsized\, new investors\, new parents\, or anyone who desires to learn how to invest in real estate.
X-ALT-DESC;FMTTYPE=text/html:Learn how to invest in today&#39\;s market and &quot\;earn while you learn&quot\;. No matter what your situation is\, you can learn how to invest and be a part of our club. Perfect opportunity for veterans\, single parents\, retirees\, students\, public service employees\, recently downsized\, new investors\, new parents\, or anyone who desires to learn how to invest in real estate. 
LOCATION:Courtyard by Marriott\, 185 South 1470 East\, St. George\, UT 84790
UID:e.1117.4143
SEQUENCE:3
DTSTAMP:20260422T023800Z
URL:https://business.stgeorgechamber.com/events/details/real-estate-investing-2013-06-25-2013-4143
END:VEVENT

END:VCALENDAR
