BEGIN:VCALENDAR
VERSION:2.0
PRODID:-//ChamberMaster//Event Calendar 2.0//EN
METHOD:PUBLISH
X-PUBLISHED-TTL:P3D
REFRESH-INTERVAL:P3D
CALSCALE:GREGORIAN
BEGIN:VEVENT
DTSTART;VALUE=DATE:20140303
DTEND;VALUE=DATE:20140304
TRANSP:TRANSPARENT
X-MICROSOFT-CDO-ALLDAYEVENT:TRUE
SUMMARY:Read Across America Day
DESCRIPTION:In 1997 an organization known as the National Education Association (NEA)\, pushed for a special day to celebrate reading throughout the United States. This idea proved to be a popular one so it was not long before the first Read Across America Day was held on March 2\, 1998. This nationwide observance coincides with the birthday of Dr Seuss (Geisel)\, an American writer best known writing children?s books. Some of his books include Green Eggs and Ham\, How the Grinch Stole Christmas!\, and The Cat in the Hat. The NEA represents about 3.2 million elementary and secondary teachers\, higher education faculty\, education support professionals\, school administrators\, retired educators and students preparing to become teachers.  It provides resources and activities for educators\, parents\, and children.
X-ALT-DESC;FMTTYPE=text/html:In 1997 an organization known as the National Education Association (NEA)\, pushed for a special day to celebrate reading throughout the United States. This idea proved to be a popular one so it was not long before the first Read Across America Day was held on March 2\, 1998. This nationwide observance coincides with the birthday of Dr Seuss (Geisel)\, an American writer best known writing children?s books. Some of his books include Green Eggs and Ham\, How the Grinch Stole Christmas!\, and The Cat in the Hat. The NEA represents about 3.2 million elementary and secondary teachers\, higher education faculty\, education support professionals\, school administrators\, retired educators and students preparing to become teachers. &nbsp\;It provides resources and activities for educators\, parents\, and children.
LOCATION:
UID:e.1117.5056
SEQUENCE:3
DTSTAMP:20260421T125752Z
URL:https://business.stgeorgechamber.com/events/details/read-across-america-day-03-03-2014-5056
END:VEVENT

END:VCALENDAR
