BEGIN:VCALENDAR
VERSION:2.0
PRODID:-//ChamberMaster//Event Calendar 2.0//EN
METHOD:PUBLISH
X-PUBLISHED-TTL:P3D
REFRESH-INTERVAL:P3D
CALSCALE:GREGORIAN
BEGIN:VEVENT
DTSTART:20131213T011500Z
DTEND:20131215T040000Z
X-MICROSOFT-CDO-ALLDAYEVENT:FALSE
SUMMARY:Ramona Hugginkiss's Nutcracker Miracle on Main Street
DESCRIPTION:It's southern Utah's home for gut bustin' musical spoofs!
X-ALT-DESC;FMTTYPE=text/html:It&#39\;s southern Utah&#39\;s home for gut bustin&#39\; musical spoofs!
LOCATION:63 South 100 West Hurricane\, UT
UID:e.1117.4976
SEQUENCE:3
DTSTAMP:20260421T171222Z
URL:https://business.stgeorgechamber.com/events/details/ramona-hugginkiss-s-nutcracker-miracle-on-main-street-12-12-2013-4976
END:VEVENT

END:VCALENDAR
