BEGIN:VCALENDAR
VERSION:2.0
PRODID:-//ChamberMaster//Event Calendar 2.0//EN
METHOD:PUBLISH
X-PUBLISHED-TTL:P3D
REFRESH-INTERVAL:P3D
CALSCALE:GREGORIAN
BEGIN:VEVENT
DTSTART:20151121T023000Z
DTEND:20151121T050000Z
X-MICROSOFT-CDO-ALLDAYEVENT:FALSE
SUMMARY:Quiet Heroes: A Symphonic Salute to the Flagraisers at Iwo Jima
DESCRIPTION:Chris Burbeck's stirring homage to the flag raisers at Iwo Jima\, Quiet Heroes\, is the emotional centerpiece of this tribute to those who defend our country.  Honoring the brave veterans who have defended our nation from WWII and other military conflicts--they are our "Quiet Heroes."  \n\nNarrated by noted actor Wilford Brimley.
X-ALT-DESC;FMTTYPE=text/html:<span style="color:#000000\;"><span style="font-family: 'Myriad Pro'\, Arial\, Helvetica\, sans-serif\; font-size: 14px\; line-height: 21px\;">Chris Burbeck&#39\;s stirring homage to the flag raisers at Iwo Jima\,&nbsp\;</span><em style="position: relative\; color: rgb(102\, 102\, 102)\; font-family: 'Myriad Pro'\, Arial\, Helvetica\, sans-serif\; font-size: 14px\; line-height: 21px\;">Quiet Heroes</em><span style="font-family: 'Myriad Pro'\, Arial\, Helvetica\, sans-serif\; font-size: 14px\; line-height: 21px\;">\, is the emotional centerpiece of this tribute to those who defend our country. &nbsp\;Honoring the brave veterans who have defended our nation from WWII and other military conflicts--they are our &quot\;Quiet Heroes.&quot\; &nbsp\;<br />\nNarrated by noted actor Wilford Brimley.</span></span>
LOCATION:Cox Performing Arts Center 325 South University Ave. St. George
UID:e.1117.7338
SEQUENCE:3
DTSTAMP:20260420T051725Z
URL:https://business.stgeorgechamber.com/events/details/quiet-heroes-a-symphonic-salute-to-the-flagraisers-at-iwo-jima-11-20-2015-7338
END:VEVENT

END:VCALENDAR
