BEGIN:VCALENDAR
VERSION:2.0
PRODID:-//ChamberMaster//Event Calendar 2.0//EN
METHOD:PUBLISH
X-PUBLISHED-TTL:P3D
REFRESH-INTERVAL:P3D
CALSCALE:GREGORIAN
BEGIN:VEVENT
DTSTART:20260402T143000Z
DTEND:20260402T153000Z
X-MICROSOFT-CDO-ALLDAYEVENT:FALSE
SUMMARY:Quarterly Chamber 101 - April 2026
DESCRIPTION:Unlock the Full Power of Your Chamber Membership\n\nWhether you are a brand-new member\, a freshly appointed Sunshiner\, or a long-time partner looking for a refresher\, Chamber 101 is your roadmap to success. Join us for this quarterly "crash course" designed to help you navigate our resources\, build your network\, and maximize your investment.\n\nIn this session\, you will learn how to:\n\n\n	\n	Navigate member-only benefits and digital tools.\n	\n	\n	Get involved with committees and community initiatives.\n	\n	\n	Leverage networking opportunities to grow your business.\n	\n\n\nThe Perks: Start your morning right with a complimentary light breakfast and great conversation with fellow professionals.
X-ALT-DESC;FMTTYPE=text/html:<p data-path-to-node="5"><b data-index-in-node="0" data-path-to-node="5">Unlock the Full Power of Your Chamber Membership</b></p>\n\n<p data-path-to-node="6">Whether you are a brand-new member\, a freshly appointed Sunshiner\, or a long-time partner looking for a refresher\, <b data-index-in-node="115" data-path-to-node="6">Chamber 101</b> is your roadmap to success. Join us for this quarterly &quot\;crash course&quot\; designed to help you navigate our resources\, build your network\, and maximize your investment.</p>\n\n<p data-path-to-node="7"><b data-index-in-node="0" data-path-to-node="7">In this session\, you will learn how to:</b></p>\n\n<ul data-path-to-node="8">\n	<li>\n	<p data-path-to-node="8\,0\,0">Navigate member-only benefits and digital tools.</p>\n	</li>\n	<li>\n	<p data-path-to-node="8\,1\,0">Get involved with committees and community initiatives.</p>\n	</li>\n	<li>\n	<p data-path-to-node="8\,2\,0">Leverage networking opportunities to grow your business.</p>\n	</li>\n</ul>\n\n<p data-path-to-node="9"><b data-index-in-node="0" data-path-to-node="9">The Perks:</b> Start your morning right with a complimentary light breakfast and great conversation with fellow professionals.</p>\n
LOCATION:St. George Area Chamber of Commerce Building 136 N 100 E St. George\, UT 84770
UID:e.1117.18511
SEQUENCE:3
DTSTAMP:20260420T175831Z
URL:https://business.stgeorgechamber.com/events/details/quarterly-chamber-101-18511
END:VEVENT

END:VCALENDAR
