BEGIN:VCALENDAR
VERSION:2.0
PRODID:-//ChamberMaster//Event Calendar 2.0//EN
METHOD:PUBLISH
X-PUBLISHED-TTL:P3D
REFRESH-INTERVAL:P3D
CALSCALE:GREGORIAN
BEGIN:VEVENT
DTSTART:20140524T190000Z
DTEND:20140525T010000Z
X-MICROSOFT-CDO-ALLDAYEVENT:FALSE
SUMMARY:Put it in Drive Car/Art Show
DESCRIPTION:Join us for a fun day at the DiFiore Center Activities include: Tear up the track-Hot Wheels Race Watch Plein Air Artists create amazing art. Enjoy the music of the 50?s and 60?s. Help us create work of car part art to be a permanent part of the DiFiore Center. Backyard Car Bingo. Food Artist Booths Food View amazing cars
X-ALT-DESC;FMTTYPE=text/html:Join us for a fun day at the DiFiore Center Activities include: Tear up the track-Hot Wheels Race Watch Plein Air Artists create amazing art. Enjoy the music of the 50?s and 60?s. Help us create work of car part art to be a permanent part of the DiFiore Center. Backyard Car Bingo. Food Artist Booths Food View amazing cars
LOCATION:307 North Main Street
UID:e.1117.5185
SEQUENCE:3
DTSTAMP:20260421T112403Z
URL:https://business.stgeorgechamber.com/events/details/put-it-in-drive-car-art-show-05-24-2014-5185
END:VEVENT

END:VCALENDAR
