BEGIN:VCALENDAR
VERSION:2.0
PRODID:-//ChamberMaster//Event Calendar 2.0//EN
METHOD:PUBLISH
X-PUBLISHED-TTL:P3D
REFRESH-INTERVAL:P3D
CALSCALE:GREGORIAN
BEGIN:VEVENT
DTSTART:20131027T230000Z
DTEND:20131028T010000Z
X-MICROSOFT-CDO-ALLDAYEVENT:FALSE
SUMMARY:Purplelight Las Vegas National Vigil For Hope
DESCRIPTION:"PurpleLight National Vigil for Hope" This is a national gathering of over 80 communities across the United States to honor loved ones fighting pancreatic cancer and those who have lost the fight. It is a wonderful opportunity for family and friends of those touched by pancreatic cancer to come together to gain both comfort and encouragement. If you have not yet registered\, there's still time! This event is free and open to the public. By registering you can submit the name of a loved one you would like to honor who is fighting pancreatic cancer & the memory of someone who has fought the deadly cancer and lost their battle. Participants will break open a purple glow stick as each name is announced. By preregistering it will ensure that we have enough glow sticks to turn Las Vegas purple! Participants are encouraged to wear as much purple as possible.
X-ALT-DESC;FMTTYPE=text/html:&quot\;PurpleLight National Vigil for Hope&quot\; This is a national gathering of over 80 communities across the United States to honor loved ones fighting pancreatic cancer and those who have lost the fight. It is a wonderful opportunity for family and friends of those touched by pancreatic cancer to come together to gain both comfort and encouragement. If you have not yet registered\, there&#39\;s still time! This event is free and open to the public. By registering you can submit the name of a loved one you would like to honor who is fighting pancreatic cancer &amp\; the memory of someone who has fought the deadly cancer and lost their battle. Participants will break open a purple glow stick as each name is announced. By preregistering it will ensure that we have enough glow sticks to turn Las Vegas purple! Participants are encouraged to wear as much purple as possible.
LOCATION:The Green at The District at Green Valley Ranch (Next To Whole Foods)
UID:e.1117.4287
SEQUENCE:3
DTSTAMP:20260421T213935Z
URL:https://business.stgeorgechamber.com/events/details/purplelight-las-vegas-national-vigil-for-hope-10-27-2013-4287
END:VEVENT

END:VCALENDAR
