BEGIN:VCALENDAR
VERSION:2.0
PRODID:-//ChamberMaster//Event Calendar 2.0//EN
METHOD:PUBLISH
X-PUBLISHED-TTL:P3D
REFRESH-INTERVAL:P3D
CALSCALE:GREGORIAN
BEGIN:VEVENT
DTSTART:20131116T160000Z
DTEND:20131116T210000Z
X-MICROSOFT-CDO-ALLDAYEVENT:FALSE
SUMMARY:Protecting Children and Families from Pornography Conference
DESCRIPTION:Everyone knows someone who has been harmed by the spread of pornography.\n\nHow can you help others?\n\n	\n		Be aware of the risks of pornography\n	\n		Understand the solutions\n	\n		Become more confident talking about this issue\n\nJoin us and be better prepared to protect your home and community from this growing threat!
X-ALT-DESC;FMTTYPE=text/html:Everyone knows someone who has been harmed by the spread of pornography.<br />\nHow can you help others?\n<ul>\n	<li>\n		Be aware of the risks of pornography</li>\n	<li>\n		Understand the solutions</li>\n	<li>\n		Become more confident talking about this issue</li>\n</ul>\nJoin us and be better prepared to protect your home and community from this growing threat!
LOCATION:Dixie Center 1835 Convention Center Drive
UID:e.1117.4326
SEQUENCE:3
DTSTAMP:20260421T200935Z
URL:https://business.stgeorgechamber.com/events/details/protecting-children-and-families-from-pornography-conference-11-16-2013-4326
END:VEVENT

END:VCALENDAR
