BEGIN:VCALENDAR
VERSION:2.0
PRODID:-//ChamberMaster//Event Calendar 2.0//EN
METHOD:PUBLISH
X-PUBLISHED-TTL:P3D
REFRESH-INTERVAL:P3D
CALSCALE:GREGORIAN
BEGIN:VEVENT
DTSTART:20130519T003000Z
DTEND:20130519T033000Z
X-MICROSOFT-CDO-ALLDAYEVENT:FALSE
SUMMARY:Promises for Hope Concert
DESCRIPTION:The Promises Tour\, featuring Grammy Nominated\, Dove Award winning Sanctus Real\, along with JJ Heller\, Unspoken\, and Bread of Stone.\n\n	May 18th \n\n	6:30 pm\n\n	Cox Auditorium on Dixie State University Campus\n\n	$20 in advance and $23 at the door\n\n	This is a fundraising event and all proceeds will go to benefit Hope Pregnancy Care Center of St. George   A local crisis pregnancy resource center.\n\n	Tickets on sale now at www.promisesforhope.com
X-ALT-DESC;FMTTYPE=text/html:<p class="MsoNormal" style="margin: 0in 0in 0pt\;">\n	<font size="3"><font color="#000000"><font face="Calibri">The Promises Tour\, featuring Grammy Nominated\, Dove Award winning Sanctus Real\, along with JJ Heller\, Unspoken\, and Bread of Stone.<o:p></o:p></font></font></font></p>\n<p class="MsoNormal" style="margin: 0in 0in 0pt\;">\n	<font color="#000000"><font face="Calibri"><font size="3">May </font><font size="3">18</font><sup><font size="2">th</font></sup><font size="3"> <o:p></o:p></font></font></font></p>\n<p class="MsoNormal" style="margin: 0in 0in 0pt\;">\n	<font size="3"><font color="#000000"><font face="Calibri">6:30 pm<o:p></o:p></font></font></font></p>\n<p class="MsoNormal" style="margin: 0in 0in 0pt\;">\n	<font size="3"><font color="#000000"><font face="Calibri">Cox Auditorium on Dixie State University Campus<o:p></o:p></font></font></font></p>\n<p class="MsoNormal" style="margin: 0in 0in 0pt\;">\n	<font size="3"><font color="#000000"><font face="Calibri">$20 in advance and $23 at the door<o:p></o:p></font></font></font></p>\n<p class="MsoNormal" style="margin: 0in 0in 0pt\;">\n	<font size="3"><font color="#000000"><font face="Calibri">This is a fundraising event and all proceeds will go to benefit Hope Pregnancy Care Center of St. George &ndash\; A local crisis pregnancy resource center.<o:p></o:p></font></font></font></p>\n<p class="MsoNormal" style="margin: 0in 0in 0pt\;">\n	<font size="3"><font color="#000000"><font face="Calibri">Tickets on sale now at www.promisesforhope.com<o:p></o:p></font></font></font></p>\n<p class="MsoNormal" style="margin: 0in 0in 0pt\;">\n	<o:p><font color="#000000" face="Calibri" size="3">&nbsp\;</font></o:p></p>\n
LOCATION:Cox Auditorium on Dixie State University Campus
UID:e.1117.2934
SEQUENCE:3
DTSTAMP:20260422T055409Z
URL:https://business.stgeorgechamber.com/events/details/promises-for-hope-concert-05-18-2013-2934
END:VEVENT

END:VCALENDAR
