BEGIN:VCALENDAR
VERSION:2.0
PRODID:-//ChamberMaster//Event Calendar 2.0//EN
METHOD:PUBLISH
X-PUBLISHED-TTL:P3D
REFRESH-INTERVAL:P3D
CALSCALE:GREGORIAN
BEGIN:VEVENT
DTSTART:20150729T173000Z
DTEND:20150729T190000Z
X-MICROSOFT-CDO-ALLDAYEVENT:FALSE
SUMMARY:Professional Women's Inspiration Luncheon "What Happy Women Know"
DESCRIPTION:Join us for our "Professional Women's Quarterly Inspiration Luncheon" featuring Terri Flint from Intermountain Healthcare.  This presentation will share the latest research on happiness and provide specific actions you can take to improve your personal well-being.\n\n\n\nDr. Terri Flint is Director of Employee Health Services and the Employee Assistance Program at Intermountain Healthcare. Teri is a Clinical Social Worker with a Ph.D. in Social Work. She has worked for Intermountain Healthcare for 25 years and loves to help others thrive in change\, improve their communication skills and find happiness in everyday moments.  Dr. Flint earned a master's degree in social work and a PhD from the University of Utah in Salt Lake City.\n\nTo practice what she preaches she lives in Park City\, a beautiful ski resort town in the mountains\, where she loves to read\, garden and ride her horses\, Henri and Gus.\n\n\n\nCome Expecting to be Rejuvenated and Inspired!
X-ALT-DESC;FMTTYPE=text/html:<span style="color:#000000\;"><span style="font-size:14px\;"><span style="font-family:arial\;">Join us for our &ldquo\;Professional Women&rsquo\;s Quarterly Inspiration Luncheon&rdquo\; featuring Terri Flint from Intermountain Healthcare. &nbsp\;This presentation will share the latest research on happiness and provide specific actions you can take to improve your personal well-being.<br />\n<br />\n<span style="line-height: 22.3999996185303px\;">Dr. Terri Flint is Director of Employee Health Services and the Employee Assistance Program at Intermountain Healthcare.&nbsp\;</span>Teri is a Clinical Social Worker with a Ph.D. in Social Work. She has worked for Intermountain Healthcare for 25 years and loves to help others thrive in change\, improve their communication skills and find happiness in everyday moments. &nbsp\;<span style="line-height: 22.3999996185303px\;">Dr. Flint earned a master&#39\;s degree in social work and a PhD from the University of Utah in Salt Lake City.</span></span></span></span>\n\n<div style="margin: 0px\; padding: 0px 5px 10px 0px\; outline: 0px\; border: 0px\; line-height: 23.1200008392334px\; color: rgb(102\, 102\, 102)\; font-family: Verdana\, Arial\, Helvetica\, sans-serif\; font-size: 13.6000003814697px\;"><span style="color:#000000\;"><span style="font-size:14px\;"><span style="font-family:arial\;">To practice what she preaches she lives in Park City\, a beautiful ski resort town in the mountains\, where she loves to read\, garden and ride her horses\, Henri and Gus.<br />\n<br />\n<strong style="line-height: 20.7999992370605px\;">Come Expecting to be Rejuvenated and Inspired!</strong></span></span></span></div>\n
LOCATION:Santa Clara Town Hall 2603 Santa Clara Drive Santa Clara
UID:e.1117.6468
SEQUENCE:3
DTSTAMP:20260420T122019Z
URL:https://business.stgeorgechamber.com/events/details/professional-women-s-inspiration-luncheon-what-happy-women-know-07-29-2015-6468
END:VEVENT

END:VCALENDAR
