BEGIN:VCALENDAR
VERSION:2.0
PRODID:-//ChamberMaster//Event Calendar 2.0//EN
METHOD:PUBLISH
X-PUBLISHED-TTL:P3D
REFRESH-INTERVAL:P3D
CALSCALE:GREGORIAN
BEGIN:VEVENT
DTSTART:20160409T020000Z
DTEND:20160410T050000Z
X-MICROSOFT-CDO-ALLDAYEVENT:FALSE
SUMMARY:Professional Bull Riders
DESCRIPTION:Buckle up. The PBR IS COMING TO TUACAHN!\n\nThis is not a rodeo. We don't rope calves\, and we don't chase barrels.\n\nThis is bull riding\, and the first rule is just to stay alive.\n\nThe Professional Bull Riders was created in 1992 when a group of 20 visionary bull riders broke away from the traditional rodeo scene seeking mainstream attention for the sport of professional bull riding.\n\nThe combination of raw sport and quality entertainment has propelled the PBR to strong growth in live attendance as well. The PBR attracts over 1.5 million live event attendees each year with its multi-tiered event structure.\n\nProfessional bull riding is a fierce\, rough\, and grueling sport with roots deeply imbedded in American culture. It's America's original extreme sport.
X-ALT-DESC;FMTTYPE=text/html:<strong>Buckle up. The PBR IS COMING TO TUACAHN!</strong><br />\nThis is not a rodeo. We don&#39\;t rope calves\, and we don&#39\;t chase barrels.<br />\nThis is bull riding\, and the first rule is just to stay alive.<br />\nThe Professional Bull Riders&nbsp\;was created in 1992 when a group of 20 visionary bull riders broke away from the traditional rodeo scene seeking mainstream attention for the sport of professional bull riding.<br />\nThe combination of raw sport and quality entertainment has propelled the PBR to strong growth in live attendance as well. The PBR attracts over 1.5 million live event attendees each year with its multi-tiered event structure.<br />\nProfessional bull riding is a fierce\, rough\, and grueling sport with roots deeply imbedded in American culture. It&#39\;s America&#39\;s original extreme sport.
LOCATION:Tuacahn 1100 Tuacahn Drive Ivins
UID:e.1117.8498
SEQUENCE:3
DTSTAMP:20260419T215337Z
URL:https://business.stgeorgechamber.com/events/details/professional-bull-riders-04-08-2016-8498
END:VEVENT

END:VCALENDAR
