BEGIN:VCALENDAR
VERSION:2.0
PRODID:-//ChamberMaster//Event Calendar 2.0//EN
METHOD:PUBLISH
X-PUBLISHED-TTL:P3D
REFRESH-INTERVAL:P3D
CALSCALE:GREGORIAN
BEGIN:VEVENT
DTSTART;VALUE=DATE:20150626
DTEND;VALUE=DATE:20150629
TRANSP:TRANSPARENT
X-MICROSOFT-CDO-ALLDAYEVENT:TRUE
SUMMARY:Pro Watercross Tour
DESCRIPTION:The fourth round of the 2015 Pro Watercross will take place at the beautiful Sand Hollow State Park (Sand Hollow Reservoir)\, which now completes the seven-stop national tour. The blue waters\, and red sandstone landscape is a welcoming addition to the 2015 tour schedule.
X-ALT-DESC;FMTTYPE=text/html:<p style="box-sizing: border-box\; margin: 0.85em 0px\; padding: 0px\; border: 0px\; font-family: Lato\, HelveticaNeue\, 'Helvetica Neue'\, Helvetica\, Arial\, sans-serif\; font-stretch: inherit\; line-height: 21.4500007629395px\; vertical-align: baseline\; color: rgb(68\, 68\, 68)\;">The fourth round of the 2015 Pro Watercross will take place at the beautiful Sand Hollow State Park (Sand Hollow Reservoir)\, which now completes the seven-stop national tour. The blue waters\, and red sandstone landscape is a welcoming addition to the 2015 tour schedule.</p>\n
LOCATION:Sand Hollow State Park Sand Hollow State Park Hurricane\, UT 84737
UID:e.1117.6482
SEQUENCE:3
DTSTAMP:20260420T152231Z
URL:https://business.stgeorgechamber.com/events/details/pro-watercross-tour-06-26-2015-6482
END:VEVENT

END:VCALENDAR
