BEGIN:VCALENDAR
VERSION:2.0
PRODID:-//ChamberMaster//Event Calendar 2.0//EN
METHOD:PUBLISH
X-PUBLISHED-TTL:P3D
REFRESH-INTERVAL:P3D
CALSCALE:GREGORIAN
BEGIN:VEVENT
DTSTART:20140531T170000Z
DTEND:20140629T000000Z
X-MICROSOFT-CDO-ALLDAYEVENT:FALSE
SUMMARY:Pride Smith- Steel & Wood Gallery Exhibit
DESCRIPTION:A beautiful artistic exploration of Steel & Wood. Using Patina as my medium\, I have pushed myself and the boundaries of creative detailed colorful and intricate works of art.
X-ALT-DESC;FMTTYPE=text/html:A beautiful artistic exploration of Steel &amp\; Wood. Using Patina as my medium\, I have pushed myself and the boundaries of creative detailed colorful and intricate works of art.
LOCATION:The DiFiore Center 307 North Main Street St George\, Utah 84770
UID:e.1117.5273
SEQUENCE:3
DTSTAMP:20260421T100547Z
URL:https://business.stgeorgechamber.com/events/details/pride-smith-steel-wood-gallery-exhibit-05-31-2014-5273
END:VEVENT

END:VCALENDAR
