BEGIN:VCALENDAR
VERSION:2.0
PRODID:-//ChamberMaster//Event Calendar 2.0//EN
METHOD:PUBLISH
X-PUBLISHED-TTL:P3D
REFRESH-INTERVAL:P3D
CALSCALE:GREGORIAN
BEGIN:VEVENT
DTSTART;VALUE=DATE:20140217
DTEND;VALUE=DATE:20140218
TRANSP:TRANSPARENT
X-MICROSOFT-CDO-ALLDAYEVENT:TRUE
SUMMARY:President's Day/Washington's Birthday
DESCRIPTION:Washington's Birthday is a United States federal holiday celebrated on the third Monday of February in honor of George Washington\, the first President of the United States\, and is sometimes incorrectly called Presidents' Day. [1] Both Lincoln's and Washington's birthdays are in February.[2]
X-ALT-DESC;FMTTYPE=text/html:Washington&#39\;s Birthday is a United States federal holiday celebrated on the third Monday of February in honor of George Washington\, the first President of the United States\, and is sometimes incorrectly called Presidents&#39\; Day. [1] Both Lincoln&#39\;s and Washington&#39\;s birthdays are in February.[2]
LOCATION:
UID:e.1117.5053
SEQUENCE:3
DTSTAMP:20260421T154519Z
URL:https://business.stgeorgechamber.com/events/details/president-s-day-washington-s-birthday-02-17-2014-5053
END:VEVENT

END:VCALENDAR
