BEGIN:VCALENDAR
VERSION:2.0
PRODID:-//ChamberMaster//Event Calendar 2.0//EN
METHOD:PUBLISH
X-PUBLISHED-TTL:P3D
REFRESH-INTERVAL:P3D
CALSCALE:GREGORIAN
BEGIN:VEVENT
DTSTART:20130629T003000Z
DTEND:20130629T020000Z
X-MICROSOFT-CDO-ALLDAYEVENT:FALSE
SUMMARY:Praise and Worship Night
DESCRIPTION:Join us for an evening of uplifting Christian praise and worship music
X-ALT-DESC;FMTTYPE=text/html:Join us for an evening of uplifting Christian praise and worship music
LOCATION:410 E Tabernacle
UID:e.1117.4148
SEQUENCE:3
DTSTAMP:20260422T023734Z
URL:https://business.stgeorgechamber.com/events/details/praise-and-worship-night-06-28-2013-4148
END:VEVENT

END:VCALENDAR
