BEGIN:VCALENDAR
VERSION:2.0
PRODID:-//ChamberMaster//Event Calendar 2.0//EN
METHOD:PUBLISH
X-PUBLISHED-TTL:P3D
REFRESH-INTERVAL:P3D
CALSCALE:GREGORIAN
BEGIN:VEVENT
DTSTART:20150619T003000Z
DTEND:20150619T023000Z
X-MICROSOFT-CDO-ALLDAYEVENT:FALSE
SUMMARY:Powerco Solar Eduational Seminar
DESCRIPTION:Powerco Solar will help you own your power\, save more money\, and help save the environment.  As a locally owned and operated Utah solar company\, our mission is to empower the residents of Utah with more control over their households by providing options to secure\, protect\, and save for their families now and into the future.  Powerco is committed to building a better Utah with solar energy at the forefront.  Being respected as a solar power leader\, a solar energy partner\, and your local neighborhood solar professional is paramount and is the backbone of what owners founded the company on\, and what we demand out of each of our energy professionals\, and installers.  Join the Powerco family and experience the advantages of solar energy\, and what it is like working with a socially conscious company that cares about you\, your neighborhood\, your city and your world.
X-ALT-DESC;FMTTYPE=text/html:Powerco Solar will help you own your power\, save more money\, and help save the environment. &nbsp\;As a locally owned and operated Utah solar company\, our mission is to empower the residents of Utah with more control over their households by providing options to secure\, protect\, and save for their families now and into the future. &nbsp\;Powerco is committed to building a better Utah with solar energy at the forefront. &nbsp\;Being respected as a solar power leader\, a solar energy partner\, and your local neighborhood solar professional is paramount and is the backbone of what owners founded the company on\, and what we demand out of each of our energy professionals\, and installers. &nbsp\;Join the Powerco family and experience the advantages of solar energy\, and what it is like working with a socially conscious company that cares about you\, your neighborhood\, your city and your world.
LOCATION:Best Western Abby Inn 1129 S Bluff St\, St George\, UT 84770
UID:e.1117.6474
SEQUENCE:3
DTSTAMP:20260420T134142Z
URL:https://business.stgeorgechamber.com/events/details/powerco-solar-eduational-seminar-06-18-2015-6474
END:VEVENT

END:VCALENDAR
