BEGIN:VCALENDAR
VERSION:2.0
PRODID:-//ChamberMaster//Event Calendar 2.0//EN
METHOD:PUBLISH
X-PUBLISHED-TTL:P3D
REFRESH-INTERVAL:P3D
CALSCALE:GREGORIAN
BEGIN:VEVENT
DTSTART:20250827T173000Z
DTEND:20250827T190000Z
X-MICROSOFT-CDO-ALLDAYEVENT:FALSE
SUMMARY:Power Lunch | St. George Marathon Preview
DESCRIPTION:Get ready for an insider's look at the St. George Marathon! Join us for an exclusive lunch where city officials will unveil exciting details about this year's event\, one of our community's most anticipated annual attractions. Discover what's new for runners and spectators alike\, get key dates for your calendar\, and learn about the race's significant impact on our local economy. Whether you're a business owner\, running enthusiast\, or community member\, this is your chance to stay ahead of the curve on St. George's premier sporting event. Don't miss this opportunity to connect with fellow Chamber members and city leaders as we gear up for another unforgettable marathon experience!
X-ALT-DESC;FMTTYPE=text/html:<span style="font-size:16px\;">Get ready for an insider&#39\;s look at the St. George Marathon! Join us for an exclusive lunch where city officials will unveil exciting details about this year&#39\;s event\, one of our community&#39\;s most anticipated annual attractions. Discover what&#39\;s new for runners and spectators alike\, get key dates for your calendar\, and learn about the race&#39\;s significant impact on our local economy. Whether you&#39\;re a business owner\, running enthusiast\, or community member\, this is your chance to stay ahead of the curve on St. George&#39\;s premier sporting event. Don&#39\;t miss this opportunity to connect with fellow Chamber members and city leaders as we gear up for another unforgettable marathon experience!</span>
LOCATION:SGACC
UID:e.1117.18271
SEQUENCE:3
DTSTAMP:20260425T223739Z
URL:https://business.stgeorgechamber.com/events/details/power-lunch-st-george-marathon-preview-18271
END:VEVENT

END:VCALENDAR
