BEGIN:VCALENDAR
VERSION:2.0
PRODID:-//ChamberMaster//Event Calendar 2.0//EN
METHOD:PUBLISH
X-PUBLISHED-TTL:P3D
REFRESH-INTERVAL:P3D
CALSCALE:GREGORIAN
BEGIN:VEVENT
DTSTART:20141115T023000Z
DTEND:20141115T050000Z
X-MICROSOFT-CDO-ALLDAYEVENT:FALSE
SUMMARY:POTPORRI PUPPET PARTY
DESCRIPTION:Friday evening November 14th 7:30-Ages 16 & up. Puppets are encouraged to bring a human. Stag puppets will be on hand\, (no naked hands allowed). Puppet Karaoke\, lip sync\, puppet games\, Improv-pick a scene from a hat. Horderves will be served.
X-ALT-DESC;FMTTYPE=text/html:Friday evening November 14th 7:30-Ages 16 &amp\; up. Puppets are encouraged to bring a human. Stag puppets will be on hand\, (no naked hands allowed). Puppet Karaoke\, lip sync\, puppet games\, Improv-pick a scene from a hat. Horderves will be served.
LOCATION:The DiFiore Center
UID:e.1117.6150
SEQUENCE:3
DTSTAMP:20260421T025944Z
URL:https://business.stgeorgechamber.com/events/details/potporri-puppet-party-11-14-2014-6150
END:VEVENT

END:VCALENDAR
